BEGIN:VCALENDAR
VERSION:2.0
PRODID:-//Katy Gaughan - ECPv5.4.0//NONSGML v1.0//EN
CALSCALE:GREGORIAN
METHOD:PUBLISH
X-WR-CALNAME:Katy Gaughan
X-ORIGINAL-URL:https://www.katygaughan.com
X-WR-CALDESC:Events for Katy Gaughan
BEGIN:VTIMEZONE
TZID:UTC
BEGIN:STANDARD
TZOFFSETFROM:+0000
TZOFFSETTO:+0000
TZNAME:UTC
DTSTART:20260101T000000
END:STANDARD
END:VTIMEZONE
BEGIN:VEVENT
DTSTART;TZID=UTC:20260425T150000
DTEND;TZID=UTC:20260425T160000
DTSTAMP:20260422T124122
CREATED:20260209T234859Z
LAST-MODIFIED:20260209T234940Z
UID:2679-1777129200-1777132800@www.katygaughan.com
SUMMARY:Family Friendly Earth Day Drum Circle at White Oak Library
DESCRIPTION:Drum for Earth Day a a family friendly community drum circle at White Oak Library!
URL:https://www.katygaughan.com/event/earth-day-drum-circle-at-white-oak-library-2/
LOCATION:White Oak Library\, 11701 New Hampshire Ave\, Silver Spring\, 20904\, United States
END:VEVENT
END:VCALENDAR